BEGIN:VCALENDAR
VERSION:2.0
PRODID:-//Quo Vadis Napoli - ECPv6.15.20//NONSGML v1.0//EN
CALSCALE:GREGORIAN
METHOD:PUBLISH
X-WR-CALNAME:Quo Vadis Napoli
X-ORIGINAL-URL:https://quovadisnapoli.net
X-WR-CALDESC:Eventi per Quo Vadis Napoli
REFRESH-INTERVAL;VALUE=DURATION:PT1H
X-Robots-Tag:noindex
X-PUBLISHED-TTL:PT1H
BEGIN:VTIMEZONE
TZID:Europe/Rome
BEGIN:DAYLIGHT
TZOFFSETFROM:+0100
TZOFFSETTO:+0200
TZNAME:CEST
DTSTART:20190331T010000
END:DAYLIGHT
BEGIN:STANDARD
TZOFFSETFROM:+0200
TZOFFSETTO:+0100
TZNAME:CET
DTSTART:20191027T010000
END:STANDARD
BEGIN:DAYLIGHT
TZOFFSETFROM:+0100
TZOFFSETTO:+0200
TZNAME:CEST
DTSTART:20200329T010000
END:DAYLIGHT
BEGIN:STANDARD
TZOFFSETFROM:+0200
TZOFFSETTO:+0100
TZNAME:CET
DTSTART:20201025T010000
END:STANDARD
BEGIN:DAYLIGHT
TZOFFSETFROM:+0100
TZOFFSETTO:+0200
TZNAME:CEST
DTSTART:20210328T010000
END:DAYLIGHT
BEGIN:STANDARD
TZOFFSETFROM:+0200
TZOFFSETTO:+0100
TZNAME:CET
DTSTART:20211031T010000
END:STANDARD
BEGIN:DAYLIGHT
TZOFFSETFROM:+0100
TZOFFSETTO:+0200
TZNAME:CEST
DTSTART:20220327T010000
END:DAYLIGHT
BEGIN:STANDARD
TZOFFSETFROM:+0200
TZOFFSETTO:+0100
TZNAME:CET
DTSTART:20221030T010000
END:STANDARD
END:VTIMEZONE
BEGIN:VEVENT
DTSTART;VALUE=DATE:20211127
DTEND;VALUE=DATE:20211128
DTSTAMP:20260423T002150
CREATED:20211115T224104Z
LAST-MODIFIED:20211115T224104Z
UID:2387-1637971200-1638057599@quovadisnapoli.net
SUMMARY:Il Rione Terra di Pozzuoli
DESCRIPTION:È uno dei siti archeologici più “giovani” al mondo.\nUn promontorio tufaceo che affaccia sul mare. Una città romana unica\, costruita su tre livelli.\nTutto ebbe origine qui nel 194 a. C.\nCi sono botteghe\, strade\, fontane\, cisterne\, terme\, mosaici\, lararia e c’è\, oggi\, finalmente\, il Capitolium. Imponente struttura tufacea su cui fu costruito il Tempio di Augusto\, Cattedrale di Pozzuoli.\nUn nuovo percorso\, nuove emozioni\, nuove prospettive da cui si riceve l’ “abbraccio del golfo flegreo”. \n  \nSabato 27 novembre in due orari disponibili ore 10.30 e 16.00 \nAppuntamento alla biglietteria del Rione Terra.\nVia largo sedile di porto\, Pozzuoli. \nSi raccomanda massima puntualità recandosi all’appuntamento 15 minuti prima per rispettare l’orario di ingresso a noi riservato ed esplicare le pratiche in biglietteria. \nNecessario il Green pass \nContributo organizzativo 10 euro (biglietto già incluso).\nBambini fino a 6 anni gratis. Dai 7 ai 15 euro anni 5 euro \nPer  info e contatti inviateci un messaggio whapp oppure\n📞 3472699142 – 3887591856\n✉️ info@quovadisnapoli.net
URL:https://quovadisnapoli.net/evento/il-rione-terra-di-pozzuoli-2021-11-27/
LOCATION:Rione Terra Largo Sedile di Porto – Pozzuoli\, Rione Terra Largo Sedile di Porto\, Pozzuoli\, 80078\, Italia
CATEGORIES:Eventi ed Iniziative
ATTACH;FMTTYPE=image/jpeg:https://quovadisnapoli.net/wp-content/uploads/2021/11/Rione-Terra-Pozzuoli-2.jpeg
END:VEVENT
BEGIN:VEVENT
DTSTART;VALUE=DATE:20211120
DTEND;VALUE=DATE:20211121
DTSTAMP:20260423T002150
CREATED:20211025T095847Z
LAST-MODIFIED:20211025T095847Z
UID:2376-1637366400-1637452799@quovadisnapoli.net
SUMMARY:Il Rione Terra di Pozzuoli
DESCRIPTION:È uno dei siti archeologici più “giovani” al mondo.\nUn promontorio tufaceo che affaccia sul mare. Una città romana unica\, costruita su tre livelli.\nTutto ebbe origine qui nel 194 a. C.\nCi sono botteghe\, strade\, fontane\, cisterne\, terme\, mosaici\, lararia e c’è\, oggi\, finalmente\, il Capitolium. Imponente struttura tufacea su cui fu costruito il Tempio di Augusto\, Cattedrale di Pozzuoli.\nUn nuovo percorso\, nuove emozioni\, nuove prospettive da cui si riceve l’ “abbraccio del golfo flegreo”. \nL’ iniziativa è promossa a sostegno di ANT (Associazione Nazionale Tumori) \nSabato 20 novembre in due orari disponibili ore 10.30 e 16.00 \nAppuntamento alla biglietteria del Rione Terra.\nVia largo sedile di porto\, Pozzuoli. \nSi raccomanda massima puntualità per rispettare l’orario di ingresso a noi riservato ed esplicare le pratiche in biglietteria.\nNecessario il Green pass \nContributo organizzativo 10 euro (biglietto già incluso).\nBambini fino a 6 anni gratis. Dai 7 ai 15 anni 5 euro. \nPer  info e contatti inviateci un messaggio whapp oppure\n📞 3472699142 – 3887591856\n✉️ info@quovadisnapoli.net
URL:https://quovadisnapoli.net/evento/il-rione-terra-di-pozzuoli/
LOCATION:Rione Terra Largo Sedile di Porto – Pozzuoli\, Rione Terra Largo Sedile di Porto\, Pozzuoli\, 80078\, Italia
CATEGORIES:Eventi ed Iniziative
ATTACH;FMTTYPE=image/jpeg:https://quovadisnapoli.net/wp-content/uploads/2021/10/Rione-Terra-Pozzuoli.jpeg
END:VEVENT
BEGIN:VEVENT
DTSTART;VALUE=DATE:20211002
DTEND;VALUE=DATE:20211003
DTSTAMP:20260423T002150
CREATED:20211015T010517Z
LAST-MODIFIED:20211015T010517Z
UID:2349-1633132800-1633219199@quovadisnapoli.net
SUMMARY:Il "Petraio" e la Napoli obliqua
DESCRIPTION:Una visita guidata “solidale” per sostenere l’assistenza medica domiciliare gratuita che la Fondazione ANT da 40 anni offre ai malati oncologici.\nQuo Vadis Napoli propone uno dei suoi tour più apprezzati: un percorso alla scoperta di una delle “scorciatoie” più suggestive di Napoli. Nati per collegare la parte alta della città a quella bassa\, i Gradini del Petraio collegano il Vomero collinare con il Corso Vittorio Emanuele ed infine con i Gradoni di Chiaia\, percorrendo la città obliquamente. \nQuando: 2 ottobre 2021\nOrario: ritrovo ore 17.00 (Funicolare Piazza Fuga)\, inizio visita 17.15 – il percorso termina in Via dei Mille altezza cinema Filangieri.\nDurata: 1 ora e 30 minuti \nContributo minimo 10 €\nBambini e ragazzi 6 – 13 anni contributo minimo 3 €.\nBambini al di sotto dei 6 anni gratuito \nL’incasso sarà interamente devoluto alla Fondazione ANT\nPer info e prenotazioni contattateci al 3887591856 anche su Whatsapp. \nSi può prenotare anche on line su ant.it/campania
URL:https://quovadisnapoli.net/evento/il-petraio-e-la-napoli-obliqua/
LOCATION:Piazza Fuga\, Piazza fuga Ferdinando\, 1\, Napoli\, NA\, 80127\, Italia
CATEGORIES:Eventi ed Iniziative
ATTACH;FMTTYPE=image/jpeg:https://quovadisnapoli.net/wp-content/uploads/2021/10/Petraio-napoli-obliqua.jpeg
END:VEVENT
BEGIN:VEVENT
DTSTART;VALUE=DATE:20210925
DTEND;VALUE=DATE:20210926
DTSTAMP:20260423T002150
CREATED:20211015T010201Z
LAST-MODIFIED:20211015T010201Z
UID:2345-1632528000-1632614399@quovadisnapoli.net
SUMMARY:Pozzuoli è...
DESCRIPTION:Walking tour alla scoperta di una insolita Pozzuoli. \nDall’Anfiteatro Flavio a Villa Avellino e il Pendino San Giuseppe\, dalla Darsena al mare fin sotto la mole imponente del Rione Terra tra vicoli\, murales e storia.\nQuesta è città romana. È terra di martiri e pescatori\, di acqua e di fuoco. Odora di zolfo e natura e le sue stradine narrano storie e leggende.\nQuesta è la Pozzuoli insolita di Quovadisnapoli.\nVenite a scoprirla! \nSabato 25 settembre ore 10.45 davanti l’ Anfiteatro Flavio di Pozzuoli. \nContributo organizzativo guida + ingresso all’Anfiteatro + radio + caffè 10 euro.\nBambini sotto i 12 anni gratis. \nPer info e contatti inviateci un messaggio whatsapp oppure\n???? 3472699142 – 3887591856\n✉️ info@quovadisnapoli.net
URL:https://quovadisnapoli.net/evento/pozzuoli-e/
LOCATION:Anfiteatro Flavio\, Corso Nicola Terracciano\, 75\, Pozzuoli\, NA\, 80078\, Italia
CATEGORIES:Eventi ed Iniziative
ATTACH;FMTTYPE=image/jpeg:https://quovadisnapoli.net/wp-content/uploads/2021/10/Pozzuoli-e.jpeg
END:VEVENT
BEGIN:VEVENT
DTSTART;VALUE=DATE:20210626
DTEND;VALUE=DATE:20210627
DTSTAMP:20260423T002150
CREATED:20211015T005646Z
LAST-MODIFIED:20211015T005646Z
UID:2342-1624665600-1624751999@quovadisnapoli.net
SUMMARY:Claude Monet - The Immersive Experience
DESCRIPTION:Hai mai sognato di entrare in un dipinto?\nNella seicentesca chiesa di San Potito è possibile farlo entrando nelle straordinarie opere di Claude Monet\, maestro dell’Impressionismo.\nPennellate virtuali a 360 gradi\, proiettate su più di 1000 mq di schermi ed una realtà virtuale di altissima tecnologia ci accompagneranno in un viaggio straordinario nel mondo pieno di luce e di colori dei dipinti di Monet.\nVarcata la soglia della chiesa entreremo anche noi nei Giardini di Giverny…\nUn’esperienza straordinaria cosigliata anche ai bambini. \nSabato 26 giugno ore 17.00 \nAppuntamento fuori la Chiesa di San Potito\, Via Salvatore Tommasi\, 1\nContributo organizzativo guida + biglietto ingresso + visori (VR) con mascherine + radio 18 euro.\nPer  info e contatti inviateci un messaggio whatsapp oppure\n???? 3472699142 – 3887591856\n✉️ info@quovadisnapoli.net\n(N. B. È previsto un numero massimo di partecipanti di 15 persone)
URL:https://quovadisnapoli.net/evento/claude-monet-the-immersive-experience-2/
LOCATION:Chiesa di San Potito\, Via Salvatore Tommasi\, 1\, Napoli\, NA\, 80135\, Italia
CATEGORIES:Eventi ed Iniziative
ATTACH;FMTTYPE=image/jpeg:https://quovadisnapoli.net/wp-content/uploads/2021/10/Claude-Monet.jpeg
END:VEVENT
BEGIN:VEVENT
DTSTART;VALUE=DATE:20210618
DTEND;VALUE=DATE:20210620
DTSTAMP:20260423T002150
CREATED:20211015T005525Z
LAST-MODIFIED:20211015T005525Z
UID:2338-1623974400-1624147199@quovadisnapoli.net
SUMMARY:Claude Monet - The Immersive Experience
DESCRIPTION:Hai mai sognato di entrare in un dipinto?\nNella seicentesca chiesa di San Potito è possibile farlo entrando nelle straordinarie opere di Claude Monet\, maestro dell’Impressionismo.\nPennellate virtuali a 360 gradi\, proiettate su più di 1000 mq di schermi ed una realtà virtuale di altissima tecnologia ci accompagneranno in un viaggio straordinario nel mondo pieno di luce e di colori dei dipinti di Monet.\nVarcata la soglia della chiesa entreremo anche noi nei Giardini di Giverny…\nUn’esperienza straordinaria cosigliata anche ai bambini. \nVenerdì 18 giugno e sabato 19 ore 17.00 \nAppuntamento fuori la Chiesa di San Potito\, Via Salvatore Tommasi\, 1\nContributo organizzativo guida + biglietto ingresso + visori (VR) con mascherine + radio 18 euro.\nPer  info e contatti inviateci un messaggio whapp oppure\n???? 3472699142 – 3887591856\n✉️ info@quovadisnapoli.net \n(N. B. È previsto un numero massimo di partecipanti di 15 persone)
URL:https://quovadisnapoli.net/evento/claude-monet-the-immersive-experience/
LOCATION:Chiesa di San Potito\, Via Salvatore Tommasi\, 1\, Napoli\, NA\, 80135\, Italia
CATEGORIES:Eventi ed Iniziative
ATTACH;FMTTYPE=image/jpeg:https://quovadisnapoli.net/wp-content/uploads/2021/10/Claude-Monet.jpeg
END:VEVENT
BEGIN:VEVENT
DTSTART;TZID=Europe/Rome:20210612T103000
DTEND;TZID=Europe/Rome:20210612T170000
DTSTAMP:20260423T002150
CREATED:20211015T004434Z
LAST-MODIFIED:20211015T004434Z
UID:2333-1623493800-1623517200@quovadisnapoli.net
SUMMARY:Casa Tolentino con aperitivo
DESCRIPTION:Casa Tolentino è un luogo di amore e bellezza nascosta tra Corso Vittorio Emanuele ed immensi giardini ai piedi della Certosa di San Martino.\nLa struttura nasce da un progetto di riqualificazione di un antico monastero del 1618 ed è oggi luogo di accoglienza ed inclusione.\nLa sua terrazza domina il golfo ed i suoi giardini\, che si estendono per 5mila metri quadri\, sono\, dal 2010\, “Bene di interesse storico e artistico” e Monumento nazionale del Ministero per i Beni e le Attività culturali.\nVieni a scoprire la sua storia! \nSabato 12 giugno ore 10.30\nAppuntamento fuori la fermata “Corso Vittorio Emanuele” della funicolare centrale (piazza Fuga – Piazzetta augusteo) .\nContributo organizzativo guida + aperitivo 10 euro.\nPer  info e contatti inviateci un messaggio whatsapp oppure\n???? 3472699142 – 3887591856\n✉️ info@quovadisnapoli.net\n(N. B. la visita si terrà al raggiungimento di almeno 10 partecipanti. In caso di avverse condizioni meteo sarà annullata )
URL:https://quovadisnapoli.net/evento/casa-tolentino-con-aperitivo/
LOCATION:Funicolare Centrale Corso Vittorio Emanuele\, Corso Vittorio Emanuele\, 252-261\, Napoli\, NA\, 80132\, Italia
CATEGORIES:Eventi ed Iniziative
ATTACH;FMTTYPE=image/jpeg:https://quovadisnapoli.net/wp-content/uploads/2021/10/Casa-Tolentino.jpeg
END:VEVENT
BEGIN:VEVENT
DTSTART;TZID=Europe/Rome:20210605T110000
DTEND;TZID=Europe/Rome:20210605T110000
DTSTAMP:20260423T002150
CREATED:20210603T115443Z
LAST-MODIFIED:20210603T115443Z
UID:1512-1622890800-1622890800@quovadisnapoli.net
SUMMARY:L'enigma del Gesù
DESCRIPTION:Armonia e Metamorfosi \nQuo Vadis Napoli vi porta di nuovo al “centro” per  fare un giro di 360° in uno dei luoghi simbolo della città.\n“Girovagando” tra storie e monumenti per andare alla radice di una città che\, pur trasformandosi e\nmutando forma\, torna sempre ad essere fedele a se stessa. \nSabato 05 Giugno ore 11.00 piazza Dante \nContributo organizzativo: 10 euro\nguida + auricolari\n(la guida sarà svolta da guida abilitata – Regione Campania) \nPer info e contatti inviaci un messaggio WhatsApp oppure chiamaci o scrivici!\n???? +393887591856 – +393472699142\n✉️ info@quovadisnapoli.net \n(N. B. la visita si terrà al raggiungimento di almeno 10 partecipanti)
URL:https://quovadisnapoli.net/evento/lenigma-del-gesu/
LOCATION:Piazza Dante\, P.za Dante\, Napoli\, NA\, 80135\, Italia
CATEGORIES:Eventi ed Iniziative
ATTACH;FMTTYPE=image/jpeg:https://quovadisnapoli.net/wp-content/uploads/2021/06/Enigma-Gesu.jpeg
END:VEVENT
BEGIN:VEVENT
DTSTART;TZID=Europe/Rome:20210604T161500
DTEND;TZID=Europe/Rome:20210604T161500
DTSTAMP:20260423T002150
CREATED:20210603T114954Z
LAST-MODIFIED:20210603T114954Z
UID:1508-1622823300-1622823300@quovadisnapoli.net
SUMMARY:I gladiatori al MANN
DESCRIPTION:Avete mai visto da vicino un elmo di un gladiatore?\nE le sue armi?\nPerché Plinio il Vecchio li chiamava hordearii (mangiatori di orzo?).\nSapevate che avevano medici e allenatori personali?\nE cosa c’era dietro l’organizzazione degli spettacoli?\nInoltre\, vi piacerebbe vedere l’elmo indossato da Russell Crowe nel film premio Oscar il Gladiatore? \nTutto questo e molto altro ancora alla scoperta di un mondo nascosto dietro la figura di valorosi combattenti alla ricerca di gloria e libertà\, con Quovadisnapoli.\n(La mostra è adatta anche ai bambini per i quali è stata creata una apposita sezione) \nVenerdì 4 giugno ore 16.15\nCosto guida + auricolari: 10 euro\nBambini dai 6 ai 13 anni: 5 euro\nBiglietto ingresso alla mostra a parte.\nSi consiglia di recarsi autonomamente un po’ prima alla biglietteria per l’ acquisto del biglietto.\nCosti Biglietti mostra : 10\,00 euro.\nGratis insegnanti e ragazzi  fino a 18 anni. \nAppuntamento ore 16.15 fuori al MANN già muniti di biglietto \nPer info e contatti inviaci un messaggio WhatsApp oppure chiamaci o scrivici!\n✉️ info@quovadisnapoli.net\n(N. B. la visita sarà svolta da guida abilitata – Regione Campania e si terrà al raggiungimento di almeno 10 partecipanti)
URL:https://quovadisnapoli.net/evento/i-gladiatori-al-mann/
LOCATION:MANN\, Piazza Museo\, 19\, Napoli\, NA\, 80135\, Italia
CATEGORIES:Eventi ed Iniziative
ATTACH;FMTTYPE=image/jpeg:https://quovadisnapoli.net/wp-content/uploads/2021/06/Gladiatori.jpeg
END:VEVENT
BEGIN:VEVENT
DTSTART;TZID=Europe/Rome:20210530T100000
DTEND;TZID=Europe/Rome:20210530T100000
DTSTAMP:20260423T002150
CREATED:20210603T114203Z
LAST-MODIFIED:20210603T114203Z
UID:1498-1622368800-1622368800@quovadisnapoli.net
SUMMARY:Alla scoperta del Petraio
DESCRIPTION:Per il @maggioalpetraio Quo Vadis Napoli vi propone un percorso alla scoperta del Petraio\, con una passeggiata dalla collina del Vomero al mare\, attraversando la città obliqua. Un piccolo borgo fatto di colori\, profumi\, suoni e natura\, il Petraio è uno di quei percorsi “lenti” e meno conosciuti della città di Napoli\, sorto ai piedi dei due monumenti simbolo della collina del Vomero: Castel Sant’ Elmo e la Certosa di San Martino.\nIl percorso terminerà sulle scale del Petraio\, all’altezza di Corso Vittorio Emanuele\, per consentire ai visitatori di partecipare alla ricca manifestazione che si svolgerà in loco. \nDomenica 30 maggio alle Ore 10.00\nAppuntamento Piazza Fuga \nContributo organizzativo 10 euro.\n(guida + radio)\nPer info e contatti inviaci un messaggio WhatsApp oppure chiamaci o scrivici!\n???? +393887591856 – +393472699142\n✉️ info@quovadisnapoli.net
URL:https://quovadisnapoli.net/evento/alla-scoperta-del-petraio/
LOCATION:Piazza Fuga\, Piazza fuga Ferdinando\, 1\, Napoli\, NA\, 80127\, Italia
CATEGORIES:Eventi ed Iniziative
ATTACH;FMTTYPE=image/jpeg:https://quovadisnapoli.net/wp-content/uploads/2021/06/Petraio.jpeg
END:VEVENT
BEGIN:VEVENT
DTSTART;TZID=Europe/Rome:20210528T163000
DTEND;TZID=Europe/Rome:20210528T163000
DTSTAMP:20260423T002150
CREATED:20210603T113553Z
LAST-MODIFIED:20210603T113553Z
UID:1493-1622219400-1622219400@quovadisnapoli.net
SUMMARY:Napoli Liberty
DESCRIPTION:Per il @maggioalpetraio Quo Vadis Napoli vi propone un percorso alla scoperta delle architetture Liberty della città di Napoli. Il percorso\, completamente all’aperto\, si snoda tra palazzi\, portoni e scorci che ci parlano del primo ‘900\, tra innovazioni\, art déco e mode internazionali.\nIl percorso terminerà sulle scale del Petraio\, all’altezza di Corso Vittorio Emanuele\, per consentire ai visitatori di partecipare alla ricca manifestazione che si svolgerà in loco. \nVenerdi 28 maggio alle ore 16.30\nAppuntamento a Piazza Vanvitelli (lato via Bernini) \nContributo organizzativo 10 euro.\n(guida + radio) \nPer info e contatti inviaci un messaggio WhatsApp oppure chiamaci o scrivici!\n???? +393887591856 – +393472699142\n✉️ info@quovadisnapoli.net
URL:https://quovadisnapoli.net/evento/napoli-liberty/
LOCATION:Piazza Vanvitelli\, Piazza Vanvitelli\, Napoli\, NA\, 80129\, Italia
CATEGORIES:Eventi ed Iniziative
ATTACH;FMTTYPE=image/jpeg:https://quovadisnapoli.net/wp-content/uploads/2021/06/liberty.jpeg
END:VEVENT
BEGIN:VEVENT
DTSTART;TZID=Europe/Rome:20210522T171500
DTEND;TZID=Europe/Rome:20210522T235900
DTSTAMP:20260423T002150
CREATED:20210521T151146Z
LAST-MODIFIED:20210521T151146Z
UID:1445-1621703700-1621727940@quovadisnapoli.net
SUMMARY:Lago d’Averno al tramonto con aperitivo
DESCRIPTION:Il lago d’Averno è un luogo di suggestione nei Campi Flegrei. Lago vulcanico stretto tra il lago Lucrino ed il Monte Nuovo\, considerato il più giovane vulcano d’Europa. È qui che esiste la pseudo grotta della Sibilla ed è qui che rivivono le suggestioni dei canti di Virgilio e le gesta di Enea. Cammineremo lungo le sponde del lago per poi giungere nello storico vigneto “Le Cantine dell’Averno” ai piedi del tempio di Apollo dove degusteremo un aperitivo con calice di vino e prodotti locali immersi tra i profumi unici della macchia mediterranea.\nAl termine della visita i partecipanti potranno passeggiare liberamente sulle sponde del lago alla ricerca delle “magiche” lucine… \nSabato 22 maggio ore 17.15 \nAppuntamento sul lago accanto al ristorante Caronte. \nContributo organizzativo 20 euro.\nPer  info e contatti inviateci un messaggio WhatsApp oppure chiamaci o scrivici!\n???? +393472699142 – +393887591856\n✉️ info@quovadisnapoli.net \n(N. B. la visita si terrà al raggiungimento di almeno 10 partecipanti. In caso di avverse condizioni meteo sarà annullata)
URL:https://quovadisnapoli.net/evento/lago-daverno-al-tramonto-con-aperitivo/
LOCATION:Lago d’Averno\, Via Lago Averno Lato Destro\, 2\, Pozzuoli\, NA\, 80078\, Italia
CATEGORIES:Eventi ed Iniziative
ATTACH;FMTTYPE=image/jpeg:https://quovadisnapoli.net/wp-content/uploads/2021/05/Lago-D-Averno-22-maggio-2021.jpeg
END:VEVENT
BEGIN:VEVENT
DTSTART;VALUE=DATE:20210306
DTEND;VALUE=DATE:20210307
DTSTAMP:20260423T002150
CREATED:20210521T181624Z
LAST-MODIFIED:20210521T181624Z
UID:1460-1614988800-1615075199@quovadisnapoli.net
SUMMARY:Il Centro Direzionale di Napoli
DESCRIPTION: Il Centro Direzionale di Napoli – un luogo che ci immerge in un futuro remoto puntellato da architetture verticali sospese tra utopia e realtà. \nUn progetto urbanistico nato dall’esigenza di delocalizzare e ammodernare la Neapolis Greca con una “Città Nuova” una novella New York progettata dal sapiente strutturalismo nipponico e modellata dalla creatività degli architetti italiani.
URL:https://quovadisnapoli.net/evento/il-centro-direzionale-di-napoli/
LOCATION:Centro Direzinale di Napoli\, Viale della Costituzione\, Napoli\, NA\, 80143\, Italia
CATEGORIES:Eventi ed Iniziative
ATTACH;FMTTYPE=image/jpeg:https://quovadisnapoli.net/wp-content/uploads/2021/05/centro-direzionale.jpg
END:VEVENT
BEGIN:VEVENT
DTSTART;VALUE=DATE:20210220
DTEND;VALUE=DATE:20210221
DTSTAMP:20260423T002150
CREATED:20210521T181954Z
LAST-MODIFIED:20210521T181954Z
UID:1464-1613779200-1613865599@quovadisnapoli.net
SUMMARY:La Riviera di Chiaja tra passato e presente
DESCRIPTION:Da spiaggia di un borgo di pescatori a passeggiata aristocratica. Dove un tempo ville romane e poi sparse case di pescatori punteggiavano la costa oggi una teoria di palazzi nobiliari fa da sfondo scenografico allo scintillio del golfo di Napoli.\nPasseggiando per i viali rettilinei della villa comunale incontreremo i volti e le voci dei personaggi che hanno reso grande Napoli e incroceremo le storie dei “grandi” della cultura europea incantati da questa riva di ghiaia.
URL:https://quovadisnapoli.net/evento/la-riviera-di-chiaja-tra-passato-e-presente/
LOCATION:Riviera di Chiaja\, Via Francesco Caracciolo\, Napoli\, NA\, 80122\, Italia
CATEGORIES:Eventi ed Iniziative
ATTACH;FMTTYPE=image/jpeg:https://quovadisnapoli.net/wp-content/uploads/2021/05/riviera.jpeg
END:VEVENT
BEGIN:VEVENT
DTSTART;VALUE=DATE:20201031
DTEND;VALUE=DATE:20201101
DTSTAMP:20260423T002150
CREATED:20210521T182904Z
LAST-MODIFIED:20210521T182904Z
UID:1471-1604102400-1604188799@quovadisnapoli.net
SUMMARY:Calata San Francesco al Vomero
DESCRIPTION:Una pedamentina quasi sconosciuta\, un percorso obliquo che attraversa la città dal Vomero alla Riviera di Chiaia giungendo al mare. Una via “caparbia”\, lunga\, panoramica che attraversa borghi e quartieri liberty sempre accompagnata dal panorama del golfo di Napoli e dal sole. E poi\, le storie\, i racconti e gli uomini le cui vite hanno attraversato e incrociato questa antica via. Deve il suo nome ad una chiesa seicentesca e alla statua del Santo di Assisi che guarda con amore la sua collina. Il percorso terminerà alla la Riviera di Chiaia al cospetto di Palazzo Mirelli di Teora…\n\nAlla scoperta di Napoli a piedi e con amore con Quovadisnapoli!
URL:https://quovadisnapoli.net/evento/calata-san-francesco-al-vomero/
LOCATION:Calata San Francesco\, Calata S. Francesco\, 21\, Napoli\, NA\, 80127\, Italia
CATEGORIES:Eventi ed Iniziative
ATTACH;FMTTYPE=image/jpeg:https://quovadisnapoli.net/wp-content/uploads/2021/05/calata-san-francesco.jpg
END:VEVENT
END:VCALENDAR