BEGIN:VCALENDAR
VERSION:2.0
PRODID:-//Quo Vadis Napoli - ECPv6.15.20//NONSGML v1.0//EN
CALSCALE:GREGORIAN
METHOD:PUBLISH
X-ORIGINAL-URL:https://quovadisnapoli.net
X-WR-CALDESC:Eventi per Quo Vadis Napoli
REFRESH-INTERVAL;VALUE=DURATION:PT1H
X-Robots-Tag:noindex
X-PUBLISHED-TTL:PT1H
BEGIN:VTIMEZONE
TZID:Europe/Rome
BEGIN:DAYLIGHT
TZOFFSETFROM:+0100
TZOFFSETTO:+0200
TZNAME:CEST
DTSTART:20220327T010000
END:DAYLIGHT
BEGIN:STANDARD
TZOFFSETFROM:+0200
TZOFFSETTO:+0100
TZNAME:CET
DTSTART:20221030T010000
END:STANDARD
BEGIN:DAYLIGHT
TZOFFSETFROM:+0100
TZOFFSETTO:+0200
TZNAME:CEST
DTSTART:20230326T010000
END:DAYLIGHT
BEGIN:STANDARD
TZOFFSETFROM:+0200
TZOFFSETTO:+0100
TZNAME:CET
DTSTART:20231029T010000
END:STANDARD
BEGIN:DAYLIGHT
TZOFFSETFROM:+0100
TZOFFSETTO:+0200
TZNAME:CEST
DTSTART:20240331T010000
END:DAYLIGHT
BEGIN:STANDARD
TZOFFSETFROM:+0200
TZOFFSETTO:+0100
TZNAME:CET
DTSTART:20241027T010000
END:STANDARD
BEGIN:DAYLIGHT
TZOFFSETFROM:+0100
TZOFFSETTO:+0200
TZNAME:CEST
DTSTART:20250330T010000
END:DAYLIGHT
BEGIN:STANDARD
TZOFFSETFROM:+0200
TZOFFSETTO:+0100
TZNAME:CET
DTSTART:20251026T010000
END:STANDARD
BEGIN:DAYLIGHT
TZOFFSETFROM:+0100
TZOFFSETTO:+0200
TZNAME:CEST
DTSTART:20260329T010000
END:DAYLIGHT
BEGIN:STANDARD
TZOFFSETFROM:+0200
TZOFFSETTO:+0100
TZNAME:CET
DTSTART:20261025T010000
END:STANDARD
BEGIN:DAYLIGHT
TZOFFSETFROM:+0100
TZOFFSETTO:+0200
TZNAME:CEST
DTSTART:20270328T010000
END:DAYLIGHT
BEGIN:STANDARD
TZOFFSETFROM:+0200
TZOFFSETTO:+0100
TZNAME:CET
DTSTART:20271031T010000
END:STANDARD
END:VTIMEZONE
BEGIN:VEVENT
DTSTART;VALUE=DATE:20260228
DTEND;VALUE=DATE:20260301
DTSTAMP:20260422T195344
CREATED:20260204T180143Z
LAST-MODIFIED:20260204T180143Z
UID:5520-1772236800-1772323199@quovadisnapoli.net
SUMMARY:ll succorpo di San Gennaro. Un'altra storia scritta nel marmo....
DESCRIPTION:[vc_row][vc_column][vc_column_text css=””]Quante volte siete stati nel succorpo di San Gennaro nella Cattedrale di Napoli?\nConoscete realmente la storia di Oliviero Carafa e della sua famiglia?\nLa sua statua orante ci accompagnerà a scoprire e ri-scoprire simboli e segni che parlano di santi\, apostoli\, vescovi ma anche di mitologia angelogia\, astronomia… \nTutta un’altra storia\, con Quovadisnapoli. \nQuando? sabato 28 febbraio ore 10.00\nAppuntamento fuori al Duomo.\nContributo organizzativi: visita guidata + whispers 12 euro. \nPer info e prenotazioni: \n\n    \n        \n            \n            \n                \n                \n            \n            \n            \n            \n            \n        \n        Valeria\n    \n\n   Valeria \n\n    \n        \n            \n            \n                \n                \n            \n            \n            \n            \n            \n        \n        Annalisa\n    \n\n   Annalisa \n   Scrivici[/vc_column_text][/vc_column][/vc_row]
URL:https://quovadisnapoli.net/evento/ll-succorpo-di-san-gennaro-unaltra-storia-scritta-nel-marmo/
LOCATION:Duomo di Napoli\, Via Duomo\, 147\, Napoli\, NA\, 80138\, Italy
CATEGORIES:Eventi ed Iniziative
ATTACH;FMTTYPE=image/jpeg:https://quovadisnapoli.net/wp-content/uploads/2026/02/Succorpo-di-San-Gennaro.jpeg
ORGANIZER;CN="Quo Vadis Napoli":MAILTO:info@quovadisnapoli.net
END:VEVENT
BEGIN:VEVENT
DTSTART;VALUE=DATE:20230108
DTEND;VALUE=DATE:20230109
DTSTAMP:20260422T195344
CREATED:20230108T161328Z
LAST-MODIFIED:20230108T172330Z
UID:3448-1673136000-1673222399@quovadisnapoli.net
SUMMARY:Plaium Montis
DESCRIPTION:Domenica 8 gennaio alle ore 10.30 vi aspettiamo per una passeggiata guidata alla scoperta del Plaium Montis. \nPartiremo dal Duomo di Salerno per salire insieme fino alle scale di Montevergine. \nParleremo di storia\, paesaggio\, ambiente e riqualificazione del territorio\, raccontando il progetto di permacoltura e rigenerazione urbana di Monteverginepark. \nLa partecipazione è gratuita ma vi chiediamo di prenotare qui \n    \n        \n            \n            \n                \n                \n            \n            \n            \n            \n            \n        \n        Annalisa\n    \n. \nIn caso di condizioni meteo particolarmente avverse l’evento potrebbe non svolgersi e ne sarete avvertiti.\nIndossate scarpe comode! \nL’iniziativa è promossa in collaborazione con la rete Scale di Salerno e organizzata insieme alle associazioni Cittadinanzattiva Campania Rete Ambiente e Territorio\, I Colori del Mediterraneo\, Rareca\, Filidipaglia\, Monteverginepark\, Rete dei Giovani di Salerno\, Pro Loco Golfo di Salerno. \nAppuntamento ore 10.30 al Duomo\, sotto le scale. \nPer info e contatti e prenotazioni: \n\n    \n        \n            \n            \n                \n                \n            \n            \n            \n            \n            \n        \n        Annalisa\n    \n\n   Annalisa\n   Scrivici \n 
URL:https://quovadisnapoli.net/evento/plaium-montis/
LOCATION:Duomo di Salerno\, Piazza Alfano I\, Salerno\, SA\, 84125
CATEGORIES:Eventi ed Iniziative
ATTACH;FMTTYPE=image/jpeg:https://quovadisnapoli.net/wp-content/uploads/2023/01/Plaium-Montis.jpeg
END:VEVENT
END:VCALENDAR