BEGIN:VCALENDAR
VERSION:2.0
PRODID:-//Quo Vadis Napoli - ECPv6.15.20//NONSGML v1.0//EN
CALSCALE:GREGORIAN
METHOD:PUBLISH
X-ORIGINAL-URL:https://quovadisnapoli.net
X-WR-CALDESC:Eventi per Quo Vadis Napoli
REFRESH-INTERVAL;VALUE=DURATION:PT1H
X-Robots-Tag:noindex
X-PUBLISHED-TTL:PT1H
BEGIN:VTIMEZONE
TZID:Europe/Rome
BEGIN:DAYLIGHT
TZOFFSETFROM:+0100
TZOFFSETTO:+0200
TZNAME:CEST
DTSTART:20220327T010000
END:DAYLIGHT
BEGIN:STANDARD
TZOFFSETFROM:+0200
TZOFFSETTO:+0100
TZNAME:CET
DTSTART:20221030T010000
END:STANDARD
BEGIN:DAYLIGHT
TZOFFSETFROM:+0100
TZOFFSETTO:+0200
TZNAME:CEST
DTSTART:20230326T010000
END:DAYLIGHT
BEGIN:STANDARD
TZOFFSETFROM:+0200
TZOFFSETTO:+0100
TZNAME:CET
DTSTART:20231029T010000
END:STANDARD
BEGIN:DAYLIGHT
TZOFFSETFROM:+0100
TZOFFSETTO:+0200
TZNAME:CEST
DTSTART:20240331T010000
END:DAYLIGHT
BEGIN:STANDARD
TZOFFSETFROM:+0200
TZOFFSETTO:+0100
TZNAME:CET
DTSTART:20241027T010000
END:STANDARD
END:VTIMEZONE
BEGIN:VEVENT
DTSTART;VALUE=DATE:20230325
DTEND;VALUE=DATE:20230326
DTSTAMP:20260422T200527
CREATED:20230310T164300Z
LAST-MODIFIED:20230310T164300Z
UID:3661-1679702400-1679788799@quovadisnapoli.net
SUMMARY:Napoli a piedi (luoghi\, paesaggi\, memoria)
DESCRIPTION:La collina di Pizzofalcone \nAvete mai alzato lo sguardo da Piazza Plebiscito? Lì dietro c’è Pizzofalcone\, il luogo che ci racconta le origini di Partenope e ci narra la storia di personaggi che hanno lasciato i loro nomi impressi in palazzi\, strade e rampe: Gennaro Serra di Cassano\, Eleonora Pimentel Fonseca\, Lamont Young…\nDa piazza Plebiscito a Monte Echia con il suo belvedere fino a Castel dell’Ovo passando per quel Commissariato “bastardo” che la penna di De Giovanni ha reso famoso… \nSabato 25 marzo ore 16.00.\nAppuntamento in piazza Plebiscito davanti al Gambrinus\nContributo organizzativo 10 euro incluso radio. \nLa visita sarà annullata in caso di avverse condizioni atmosferiche.  \nPer  info e contatti inviateci un messaggio whapp oppure\n\n    \n        \n            \n            \n                \n                \n            \n            \n            \n            \n            \n        \n        Valeria\n    \n \n    \n        \n            \n            \n                \n                \n            \n            \n            \n            \n            \n        \n        Annalisa\n    \n\n   Valeria    Annalisa\n   Scrivici
URL:https://quovadisnapoli.net/evento/napoli-a-piedi-luoghi-paesaggi-memoria/
LOCATION:Piazza del Plebiscito lato Gambrinus\, Piazza Trieste e Trento\, 2\, Napoli\, NA\, 80132\, Italia
CATEGORIES:Eventi ed Iniziative
ATTACH;FMTTYPE=image/jpeg:https://quovadisnapoli.net/wp-content/uploads/2023/03/SAVE_20230310_173032.jpg
END:VEVENT
END:VCALENDAR