BEGIN:VCALENDAR
VERSION:2.0
PRODID:-//Quo Vadis Napoli - ECPv6.15.20//NONSGML v1.0//EN
CALSCALE:GREGORIAN
METHOD:PUBLISH
X-WR-CALNAME:Quo Vadis Napoli
X-ORIGINAL-URL:https://quovadisnapoli.net
X-WR-CALDESC:Eventi per Quo Vadis Napoli
REFRESH-INTERVAL;VALUE=DURATION:PT1H
X-Robots-Tag:noindex
X-PUBLISHED-TTL:PT1H
BEGIN:VTIMEZONE
TZID:Europe/Rome
BEGIN:DAYLIGHT
TZOFFSETFROM:+0100
TZOFFSETTO:+0200
TZNAME:CEST
DTSTART:20200329T010000
END:DAYLIGHT
BEGIN:STANDARD
TZOFFSETFROM:+0200
TZOFFSETTO:+0100
TZNAME:CET
DTSTART:20201025T010000
END:STANDARD
BEGIN:DAYLIGHT
TZOFFSETFROM:+0100
TZOFFSETTO:+0200
TZNAME:CEST
DTSTART:20210328T010000
END:DAYLIGHT
BEGIN:STANDARD
TZOFFSETFROM:+0200
TZOFFSETTO:+0100
TZNAME:CET
DTSTART:20211031T010000
END:STANDARD
BEGIN:DAYLIGHT
TZOFFSETFROM:+0100
TZOFFSETTO:+0200
TZNAME:CEST
DTSTART:20220327T010000
END:DAYLIGHT
BEGIN:STANDARD
TZOFFSETFROM:+0200
TZOFFSETTO:+0100
TZNAME:CET
DTSTART:20221030T010000
END:STANDARD
END:VTIMEZONE
BEGIN:VEVENT
DTSTART;VALUE=DATE:20211212
DTEND;VALUE=DATE:20211213
DTSTAMP:20260423T001853
CREATED:20211202T161145Z
LAST-MODIFIED:20211202T161145Z
UID:2450-1639267200-1639353599@quovadisnapoli.net
SUMMARY:Museo di Napoli presso la Casa dello scugnizzo
DESCRIPTION:Esiste un luogo a Napoli che conserva la memoria profonda della citta’\, e’ il Museo di Napoli presso la Casa dello scugnizzo\, curato da Gaetano Bonelli. \nVisitarlo vuol dire entrare nella magica atmosfera di una vera e propria Wunderkammer\, ricca di testimonianze incredibili ed originali.\nQuesto luogo così particolare è nato dall’amore per Napoli di Gaetano Bonelli che\, da bambino\, dopo il terremoto dell’80\, comprese che la sua città doveva essere riscattata ricostruendo il suo glorioso passato. \nDocumenti\, opere d’arte e infiniti cimeli sono stati raccolti in anni e anni di appassionata ricerca. \nUn’esperienza culturale e umana che Quo Vadis Napoli vi fara’ vivere domenica 12 Dicembre.\nAppuntamento uscita metro Materdei ore 10.30.\nContributo organizzativo 10 euro \nPer  info e contatti inviateci un messaggio whatsapp oppure\n📞 3472699142 – 3887591856\n✉️ info@quovadisnapoli.net
URL:https://quovadisnapoli.net/evento/museo-di-napoli-presso-la-casa-dello-scugnizzo/
LOCATION:Metro Materdei\, Piazza Scipione ammirato\, Napoli\, NA\, 80136\, Italia
CATEGORIES:Eventi ed Iniziative
ATTACH;FMTTYPE=image/jpeg:https://quovadisnapoli.net/wp-content/uploads/2021/12/Museo-di-Napoli-presso-la-Casa-dello-scugnizzo.jpeg
END:VEVENT
END:VCALENDAR