BEGIN:VCALENDAR
VERSION:2.0
PRODID:-//Quo Vadis Napoli - ECPv6.15.20//NONSGML v1.0//EN
CALSCALE:GREGORIAN
METHOD:PUBLISH
X-ORIGINAL-URL:https://quovadisnapoli.net
X-WR-CALDESC:Eventi per Quo Vadis Napoli
REFRESH-INTERVAL;VALUE=DURATION:PT1H
X-Robots-Tag:noindex
X-PUBLISHED-TTL:PT1H
BEGIN:VTIMEZONE
TZID:Europe/Rome
BEGIN:DAYLIGHT
TZOFFSETFROM:+0100
TZOFFSETTO:+0200
TZNAME:CEST
DTSTART:20230326T010000
END:DAYLIGHT
BEGIN:STANDARD
TZOFFSETFROM:+0200
TZOFFSETTO:+0100
TZNAME:CET
DTSTART:20231029T010000
END:STANDARD
BEGIN:DAYLIGHT
TZOFFSETFROM:+0100
TZOFFSETTO:+0200
TZNAME:CEST
DTSTART:20240331T010000
END:DAYLIGHT
BEGIN:STANDARD
TZOFFSETFROM:+0200
TZOFFSETTO:+0100
TZNAME:CET
DTSTART:20241027T010000
END:STANDARD
BEGIN:DAYLIGHT
TZOFFSETFROM:+0100
TZOFFSETTO:+0200
TZNAME:CEST
DTSTART:20250330T010000
END:DAYLIGHT
BEGIN:STANDARD
TZOFFSETFROM:+0200
TZOFFSETTO:+0100
TZNAME:CET
DTSTART:20251026T010000
END:STANDARD
END:VTIMEZONE
BEGIN:VEVENT
DTSTART;TZID=Europe/Rome:20240217T100000
DTEND;TZID=Europe/Rome:20240217T100000
DTSTAMP:20260422T195337
CREATED:20240206T150722Z
LAST-MODIFIED:20240206T150722Z
UID:4320-1708164000-1708164000@quovadisnapoli.net
SUMMARY:Atmosfere di interni - Da Monteoliveto allo Spirito Santo
DESCRIPTION:Quante volte siete passati a via Toledo proprio accanto la chiesa dello Spirito Santo ed avete visto una bandiera tricolore sventolare\, maestosa\, su un palazzo tutto bianco dalle enormi colonne doriche?\nQuel palazzo è il palazzo Doria d’Angri\, costruito nel XVIII secolo\, residenza della prestigiosa famiglia Doria.\nDa quel balcone\, il 7 settembre 1860\, si affacció Giuseppe Garibaldi annunciando l’annessione del Regno delle Due Sicilie al Regno d’Italia.\nLe sue stanze sono un tripudio di marmi\, specchi\, stucchi\, arazzi ed affreschi ed è qui che è stato custodito a lungo l’ultimo capolavoro di Caravaggio\, il Martirio di Sant’Orsola.\nNumerosi furono gli artisti che vi lavorarono al servizio di principi e marchesi Doria: Vanvitelli\, Solimena\, Fischetti\, Diano: la più grande ėlite artistica nella Napoli tra XVIII e XIX secolo. \nPartiremo da Piazza Matteotti per raggiungere il lussuoso palazzo in largo Santo Spirito\, scopriremo la storia della nobile famiglia Doria\, le vicissitudini che lo portarono ad essere\, suo malgrado\, il simbolo dell’unificazione italiana\, e saliremo su quello stesso balcone dove oggi sventola la maestosa bandiera. \nSabato 17 febbraio ore 10.00\nAppuntamento in Piazza Matteotti davanti l’ingresso principale delle poste centrali. \nContributo organizzativo € 20 (guida + radio + biglietto alla struttura + caffè) \n  \nPer info e prenotazioni:\n\n    \n        \n            \n            \n                \n                \n            \n            \n            \n            \n            \n        \n        Annalisa\n    \n \n    \n        \n            \n            \n                \n                \n            \n            \n            \n            \n            \n        \n        Valeria\n    \n\n   Annalisa    Valeria\n   Scrivici
URL:https://quovadisnapoli.net/evento/atmosfere-di-interni-da-monteoliveto-allo-spirito-santo/
LOCATION:Piazza Matteotti – Poste Centrali\, Piazza Matteotti\, 2\, Napoli\, NA\, 80133\, Italia
CATEGORIES:Eventi ed Iniziative
ATTACH;FMTTYPE=image/jpeg:https://quovadisnapoli.net/wp-content/uploads/2024/02/Palazzo-Doria-D-Angri.jpg
END:VEVENT
END:VCALENDAR