BEGIN:VCALENDAR
VERSION:2.0
PRODID:-//Quo Vadis Napoli - ECPv6.15.20//NONSGML v1.0//EN
CALSCALE:GREGORIAN
METHOD:PUBLISH
X-WR-CALNAME:Quo Vadis Napoli
X-ORIGINAL-URL:https://quovadisnapoli.net
X-WR-CALDESC:Eventi per Quo Vadis Napoli
REFRESH-INTERVAL;VALUE=DURATION:PT1H
X-Robots-Tag:noindex
X-PUBLISHED-TTL:PT1H
BEGIN:VTIMEZONE
TZID:Europe/Rome
BEGIN:DAYLIGHT
TZOFFSETFROM:+0100
TZOFFSETTO:+0200
TZNAME:CEST
DTSTART:20200329T010000
END:DAYLIGHT
BEGIN:STANDARD
TZOFFSETFROM:+0200
TZOFFSETTO:+0100
TZNAME:CET
DTSTART:20201025T010000
END:STANDARD
BEGIN:DAYLIGHT
TZOFFSETFROM:+0100
TZOFFSETTO:+0200
TZNAME:CEST
DTSTART:20210328T010000
END:DAYLIGHT
BEGIN:STANDARD
TZOFFSETFROM:+0200
TZOFFSETTO:+0100
TZNAME:CET
DTSTART:20211031T010000
END:STANDARD
BEGIN:DAYLIGHT
TZOFFSETFROM:+0100
TZOFFSETTO:+0200
TZNAME:CEST
DTSTART:20220327T010000
END:DAYLIGHT
BEGIN:STANDARD
TZOFFSETFROM:+0200
TZOFFSETTO:+0100
TZNAME:CET
DTSTART:20221030T010000
END:STANDARD
END:VTIMEZONE
BEGIN:VEVENT
DTSTART;VALUE=DATE:20211128
DTEND;VALUE=DATE:20211129
DTSTAMP:20260422T225617
CREATED:20211018T115643Z
LAST-MODIFIED:20211018T115643Z
UID:2360-1638057600-1638143999@quovadisnapoli.net
SUMMARY:Frida Kahlo. Il caos dentro.
DESCRIPTION:A Palazzo Fondi l’attesa mostra dedicata alla pittrice messicana. Tra pannelli interattivi\, lettere\, fotografie e riproduzioni di costumi e gioielli\, entreremo nel colorato mondo di Frida Kahlo\, icona assoluto di “messicanita’”.\nTra le sale dello splendido palazzo settecentesco ubicato in Via Medina\, sono stati ricostruiti alcuni ambienti della famosa Casa Azul\, lo studio e la sua stanza da letto dove morì.\nUna mostra\, una nuova esperienza per conoscere meglio l’artista ed entrare nel suo “caos”. \nDomenica 28 novembre ore 10.30\n(L’ingresso a noi riservato è alle 10.45) \nAppuntamento all’ingresso di Palazzo Fondi (Via Medina\, 24).\nSi raccomanda massima puntualità per rispettare l’orario di ingresso a noi riservato ed esplicare le pratiche in biglietteria. \nContributo organizzativo guida + biglietto alla mostra + salta fila+ radio\, 20 euro.\nBambini sotto i 6 anni gratis. Dai 6 ai 12 anni 15 euro. \nNecessario il Green pass \nPer  info e contatti inviateci un messaggio whatsapp  oppure\n📞 3472699142 – 3887591856\n✉️ info@quovadisnapoli.net
URL:https://quovadisnapoli.net/evento/frida-kahlo-il-caos-dentro-2021-11-28/
LOCATION:Palazzo Fondi\, Via Medina\, 24\, Napoli\, NA\, 80133\, Italia
CATEGORIES:Eventi ed Iniziative
ATTACH;FMTTYPE=image/jpeg:https://quovadisnapoli.net/wp-content/uploads/2021/10/Frida-Kahlo-28-novembre-2021.jpeg
END:VEVENT
END:VCALENDAR