BEGIN:VCALENDAR
VERSION:2.0
PRODID:-//Quo Vadis Napoli - ECPv6.15.20//NONSGML v1.0//EN
CALSCALE:GREGORIAN
METHOD:PUBLISH
X-WR-CALNAME:Quo Vadis Napoli
X-ORIGINAL-URL:https://quovadisnapoli.net
X-WR-CALDESC:Eventi per Quo Vadis Napoli
REFRESH-INTERVAL;VALUE=DURATION:PT1H
X-Robots-Tag:noindex
X-PUBLISHED-TTL:PT1H
BEGIN:VTIMEZONE
TZID:Europe/Rome
BEGIN:DAYLIGHT
TZOFFSETFROM:+0100
TZOFFSETTO:+0200
TZNAME:CEST
DTSTART:20200329T010000
END:DAYLIGHT
BEGIN:STANDARD
TZOFFSETFROM:+0200
TZOFFSETTO:+0100
TZNAME:CET
DTSTART:20201025T010000
END:STANDARD
BEGIN:DAYLIGHT
TZOFFSETFROM:+0100
TZOFFSETTO:+0200
TZNAME:CEST
DTSTART:20210328T010000
END:DAYLIGHT
BEGIN:STANDARD
TZOFFSETFROM:+0200
TZOFFSETTO:+0100
TZNAME:CET
DTSTART:20211031T010000
END:STANDARD
BEGIN:DAYLIGHT
TZOFFSETFROM:+0100
TZOFFSETTO:+0200
TZNAME:CEST
DTSTART:20220327T010000
END:DAYLIGHT
BEGIN:STANDARD
TZOFFSETFROM:+0200
TZOFFSETTO:+0100
TZNAME:CET
DTSTART:20221030T010000
END:STANDARD
END:VTIMEZONE
BEGIN:VEVENT
DTSTART;VALUE=DATE:20211127
DTEND;VALUE=DATE:20211128
DTSTAMP:20260423T003139
CREATED:20211115T224104Z
LAST-MODIFIED:20211115T224104Z
UID:2387-1637971200-1638057599@quovadisnapoli.net
SUMMARY:Il Rione Terra di Pozzuoli
DESCRIPTION:È uno dei siti archeologici più “giovani” al mondo.\nUn promontorio tufaceo che affaccia sul mare. Una città romana unica\, costruita su tre livelli.\nTutto ebbe origine qui nel 194 a. C.\nCi sono botteghe\, strade\, fontane\, cisterne\, terme\, mosaici\, lararia e c’è\, oggi\, finalmente\, il Capitolium. Imponente struttura tufacea su cui fu costruito il Tempio di Augusto\, Cattedrale di Pozzuoli.\nUn nuovo percorso\, nuove emozioni\, nuove prospettive da cui si riceve l’ “abbraccio del golfo flegreo”. \n  \nSabato 27 novembre in due orari disponibili ore 10.30 e 16.00 \nAppuntamento alla biglietteria del Rione Terra.\nVia largo sedile di porto\, Pozzuoli. \nSi raccomanda massima puntualità recandosi all’appuntamento 15 minuti prima per rispettare l’orario di ingresso a noi riservato ed esplicare le pratiche in biglietteria. \nNecessario il Green pass \nContributo organizzativo 10 euro (biglietto già incluso).\nBambini fino a 6 anni gratis. Dai 7 ai 15 euro anni 5 euro \nPer  info e contatti inviateci un messaggio whapp oppure\n📞 3472699142 – 3887591856\n✉️ info@quovadisnapoli.net
URL:https://quovadisnapoli.net/evento/il-rione-terra-di-pozzuoli-2021-11-27/
LOCATION:Rione Terra Largo Sedile di Porto – Pozzuoli\, Rione Terra Largo Sedile di Porto\, Pozzuoli\, 80078\, Italia
CATEGORIES:Eventi ed Iniziative
ATTACH;FMTTYPE=image/jpeg:https://quovadisnapoli.net/wp-content/uploads/2021/11/Rione-Terra-Pozzuoli-2.jpeg
END:VEVENT
END:VCALENDAR