BEGIN:VCALENDAR
VERSION:2.0
PRODID:-//Quo Vadis Napoli - ECPv6.15.20//NONSGML v1.0//EN
CALSCALE:GREGORIAN
METHOD:PUBLISH
X-WR-CALNAME:Quo Vadis Napoli
X-ORIGINAL-URL:https://quovadisnapoli.net
X-WR-CALDESC:Eventi per Quo Vadis Napoli
REFRESH-INTERVAL;VALUE=DURATION:PT1H
X-Robots-Tag:noindex
X-PUBLISHED-TTL:PT1H
BEGIN:VTIMEZONE
TZID:Europe/Rome
BEGIN:DAYLIGHT
TZOFFSETFROM:+0100
TZOFFSETTO:+0200
TZNAME:CEST
DTSTART:20220327T010000
END:DAYLIGHT
BEGIN:STANDARD
TZOFFSETFROM:+0200
TZOFFSETTO:+0100
TZNAME:CET
DTSTART:20221030T010000
END:STANDARD
BEGIN:DAYLIGHT
TZOFFSETFROM:+0100
TZOFFSETTO:+0200
TZNAME:CEST
DTSTART:20230326T010000
END:DAYLIGHT
BEGIN:STANDARD
TZOFFSETFROM:+0200
TZOFFSETTO:+0100
TZNAME:CET
DTSTART:20231029T010000
END:STANDARD
BEGIN:DAYLIGHT
TZOFFSETFROM:+0100
TZOFFSETTO:+0200
TZNAME:CEST
DTSTART:20240331T010000
END:DAYLIGHT
BEGIN:STANDARD
TZOFFSETFROM:+0200
TZOFFSETTO:+0100
TZNAME:CET
DTSTART:20241027T010000
END:STANDARD
END:VTIMEZONE
BEGIN:VEVENT
DTSTART;TZID=Europe/Rome:20231202T103000
DTEND;TZID=Europe/Rome:20231202T103000
DTSTAMP:20260422T162544
CREATED:20231128T122220Z
LAST-MODIFIED:20240118T153539Z
UID:4085-1701513000-1701513000@quovadisnapoli.net
SUMMARY:La Sanità con gli occhi della Sanità
DESCRIPTION:Ai piedi della collina di Capodimonte\, un Canyon scavato nel tufo legato ad una Madonna che sana. \nCuore pulsante antico della città che non dorme mai. \nUn tour emozionante ed “emozionale” tra palazzi nobiliari\, chiese\, mercati e “persone”. \nProfumo di popolo e di vita. \nLa Sanità è il quartiere di Totò\, dove vissero il Sanfelice ed Alfonso Maria De Liguori\, dove oggi vivono scultori e street artists e dove nascono tante cooperative sociali.\nSui suoi muri trovi scritto “l’apparenza inganna” e una mano ti invita ad entrare \nE allora entriamo nel quartiere Sanità per vederla con gli occhi di chi vive lì e sa amarla facendola rinascere ogni giorno un po’. \nIl tour partirà da porta San Gennaro per giungere fino alla spettacolare chiesa dei Cristallini riaperta dopo ben 40 anni. \nA tutti i partecipanti sarà offerto un caffè speciale del quartiere. \n  \nSabato 02 dicembre\nOre 10.30 porta San Gennaro (di fronte metro Cavour)\nContributo organizzativo € 15 (guida + radio+ caffè special) \n  \nPer info e contatti:\n\n    \n        \n            \n            \n                \n                \n            \n            \n            \n            \n            \n        \n        Annalisa\n    \n \n    \n        \n            \n            \n                \n                \n            \n            \n            \n            \n            \n        \n        Valeria\n    \n\n   Annalisa    Valeria\n   Scrivici
URL:https://quovadisnapoli.net/evento/la-sanita-con-gli-occhi-della-sanita/
LOCATION:Porta San Gennaro\, Via Porta S. Gennaro\, 2\, Napoli\, NA\, 80138\, Italia
CATEGORIES:Eventi ed Iniziative
ATTACH;FMTTYPE=image/jpeg:https://quovadisnapoli.net/wp-content/uploads/2023/11/La-Sanita-con-gli-occhi-della-sanita.jpg
ORGANIZER;CN="Quo Vadis Napoli":MAILTO:info@quovadisnapoli.net
END:VEVENT
END:VCALENDAR