BEGIN:VCALENDAR
VERSION:2.0
PRODID:-//Quo Vadis Napoli - ECPv6.15.20//NONSGML v1.0//EN
CALSCALE:GREGORIAN
METHOD:PUBLISH
X-WR-CALNAME:Quo Vadis Napoli
X-ORIGINAL-URL:https://quovadisnapoli.net
X-WR-CALDESC:Eventi per Quo Vadis Napoli
REFRESH-INTERVAL;VALUE=DURATION:PT1H
X-Robots-Tag:noindex
X-PUBLISHED-TTL:PT1H
BEGIN:VTIMEZONE
TZID:Europe/Rome
BEGIN:DAYLIGHT
TZOFFSETFROM:+0100
TZOFFSETTO:+0200
TZNAME:CEST
DTSTART:20210328T010000
END:DAYLIGHT
BEGIN:STANDARD
TZOFFSETFROM:+0200
TZOFFSETTO:+0100
TZNAME:CET
DTSTART:20211031T010000
END:STANDARD
BEGIN:DAYLIGHT
TZOFFSETFROM:+0100
TZOFFSETTO:+0200
TZNAME:CEST
DTSTART:20220327T010000
END:DAYLIGHT
BEGIN:STANDARD
TZOFFSETFROM:+0200
TZOFFSETTO:+0100
TZNAME:CET
DTSTART:20221030T010000
END:STANDARD
BEGIN:DAYLIGHT
TZOFFSETFROM:+0100
TZOFFSETTO:+0200
TZNAME:CEST
DTSTART:20230326T010000
END:DAYLIGHT
BEGIN:STANDARD
TZOFFSETFROM:+0200
TZOFFSETTO:+0100
TZNAME:CET
DTSTART:20231029T010000
END:STANDARD
END:VTIMEZONE
BEGIN:VEVENT
DTSTART;VALUE=DATE:20220129
DTEND;VALUE=DATE:20220130
DTSTAMP:20260422T180716
CREATED:20220119T120641Z
LAST-MODIFIED:20220119T120641Z
UID:2497-1643414400-1643500799@quovadisnapoli.net
SUMMARY:LAPIS Museo dell'acqua
DESCRIPTION:QUO VADIS\nvi porta alla scoperta di LAPIS \nUn percorso “NUOVO” nel sottosuolo di Napoli. \nUna discesa nelle viscere oscure di una Città “Nuova”\, la greca “Nea-polis” progettata nel  banco tufaceo da una mente geniale\, capace di sfruttare le contraddizioni. \nArchitettata\, come per magia\, sul vuoto lasciato da una pietra\, che\, poiché tenera e leggera\, non appare come una pietra. \nUn VUOTO nel quale far scorrere l’elemento che da la Vita: l’ACQUA. \nSabato 29 Gennaio ore 15.00.\nAppuntamento in Via Tribunali fuori la Chiesa della Pietrasanta \nContributo organizzativo 20 euro (guida +biglietto di ingresso alla struttura +radio)\nBambini fino a 12 anni 10 euro \nPer  info e contatti inviateci un messaggio whatsapp oppure\n📞 3472699142 – 3887591856\n✉️ info@quovadisnapoli.net
URL:https://quovadisnapoli.net/evento/lapis-museo-dellacqua/
LOCATION:Chiesa della Pietrasanta\, Piazzetta Pietrasanta 17-18\, Napoli\, NA\, 80138\, Italia
CATEGORIES:Eventi ed Iniziative
ATTACH;FMTTYPE=image/jpeg:https://quovadisnapoli.net/wp-content/uploads/2022/01/LAPIS.jpeg
END:VEVENT
END:VCALENDAR