BEGIN:VCALENDAR
VERSION:2.0
PRODID:-//Quo Vadis Napoli - ECPv6.15.20//NONSGML v1.0//EN
CALSCALE:GREGORIAN
METHOD:PUBLISH
X-WR-CALNAME:Quo Vadis Napoli
X-ORIGINAL-URL:https://quovadisnapoli.net
X-WR-CALDESC:Eventi per Quo Vadis Napoli
REFRESH-INTERVAL;VALUE=DURATION:PT1H
X-Robots-Tag:noindex
X-PUBLISHED-TTL:PT1H
BEGIN:VTIMEZONE
TZID:Europe/Rome
BEGIN:DAYLIGHT
TZOFFSETFROM:+0100
TZOFFSETTO:+0200
TZNAME:CEST
DTSTART:20210328T010000
END:DAYLIGHT
BEGIN:STANDARD
TZOFFSETFROM:+0200
TZOFFSETTO:+0100
TZNAME:CET
DTSTART:20211031T010000
END:STANDARD
BEGIN:DAYLIGHT
TZOFFSETFROM:+0100
TZOFFSETTO:+0200
TZNAME:CEST
DTSTART:20220327T010000
END:DAYLIGHT
BEGIN:STANDARD
TZOFFSETFROM:+0200
TZOFFSETTO:+0100
TZNAME:CET
DTSTART:20221030T010000
END:STANDARD
BEGIN:DAYLIGHT
TZOFFSETFROM:+0100
TZOFFSETTO:+0200
TZNAME:CEST
DTSTART:20230326T010000
END:DAYLIGHT
BEGIN:STANDARD
TZOFFSETFROM:+0200
TZOFFSETTO:+0100
TZNAME:CET
DTSTART:20231029T010000
END:STANDARD
END:VTIMEZONE
BEGIN:VEVENT
DTSTART;VALUE=DATE:20221127
DTEND;VALUE=DATE:20221128
DTSTAMP:20260422T162743
CREATED:20221122T175124Z
LAST-MODIFIED:20230105T011029Z
UID:3233-1669507200-1669593599@quovadisnapoli.net
SUMMARY:Le Fornelle
DESCRIPTION:C’è un quartiere del centro storico di Salerno dal cuore antico e dalla storia affascinante\, è il quartiere delle Fornelle. \nOggi questo rione si presenta come un libro a cielo aperto: i murales e le installazioni vi porteranno in un mondo di poesia e bellezza\, mentre le testimonianze storiche raccontano delle vicende della Salerno longobarda e normanna\, arrivando fino ai nostri giorni. \nQuo Vadis Napoli vi propone un affascinante viaggio a cavallo tra storia e leggenda\, attraversando il mondo della street art e della poesia. \nDomenica 27 novembre ottobre alle ore 10.30 Appuntamento al Teatro Verdi di Salerno in piazza Matteo Luciani. \nContributo organizzativo 8 euro. \nPer info e contatti:\n\n    \n        \n            \n            \n                \n                \n            \n            \n            \n            \n            \n        \n        Valeria\n    \n \n    \n        \n            \n            \n                \n                \n            \n            \n            \n            \n            \n        \n        Annalisa\n    \n\n   Valeria    Annalisa\n   Scrivici
URL:https://quovadisnapoli.net/evento/le-fornelle/
LOCATION:Teatro Verdi di Salerno\, Piazza Matteo Luciani 23\, Salerno\, SA\, 84121\, Italia
CATEGORIES:Eventi ed Iniziative
ATTACH;FMTTYPE=image/jpeg:https://quovadisnapoli.net/wp-content/uploads/2022/11/Le-Fornelle.jpeg
END:VEVENT
END:VCALENDAR